BEGIN:VCALENDAR
VERSION:2.0
PRODID:-//La Gotera De Lazotea - ECPv6.15.20//NONSGML v1.0//EN
CALSCALE:GREGORIAN
METHOD:PUBLISH
X-WR-CALNAME:La Gotera De Lazotea
X-ORIGINAL-URL:https://lagoteradelazotea.es
X-WR-CALDESC:Eventos para La Gotera De Lazotea
REFRESH-INTERVAL;VALUE=DURATION:PT1H
X-Robots-Tag:noindex
X-PUBLISHED-TTL:PT1H
BEGIN:VTIMEZONE
TZID:Europe/Madrid
BEGIN:DAYLIGHT
TZOFFSETFROM:+0100
TZOFFSETTO:+0200
TZNAME:CEST
DTSTART:20230326T010000
END:DAYLIGHT
BEGIN:STANDARD
TZOFFSETFROM:+0200
TZOFFSETTO:+0100
TZNAME:CET
DTSTART:20231029T010000
END:STANDARD
BEGIN:DAYLIGHT
TZOFFSETFROM:+0100
TZOFFSETTO:+0200
TZNAME:CEST
DTSTART:20240331T010000
END:DAYLIGHT
BEGIN:STANDARD
TZOFFSETFROM:+0200
TZOFFSETTO:+0100
TZNAME:CET
DTSTART:20241027T010000
END:STANDARD
BEGIN:DAYLIGHT
TZOFFSETFROM:+0100
TZOFFSETTO:+0200
TZNAME:CEST
DTSTART:20250330T010000
END:DAYLIGHT
BEGIN:STANDARD
TZOFFSETFROM:+0200
TZOFFSETTO:+0100
TZNAME:CET
DTSTART:20251026T010000
END:STANDARD
END:VTIMEZONE
BEGIN:VEVENT
DTSTART;TZID=Europe/Madrid:20241003T190000
DTEND;TZID=Europe/Madrid:20241003T200000
DTSTAMP:20260421T150346
CREATED:20240923T100438Z
LAST-MODIFIED:20240923T101731Z
UID:6614-1727982000-1727985600@lagoteradelazotea.es
SUMMARY:LA GALLINA CHURRA EN Jerez ( Cádiz )Feria del Libro
DESCRIPTION:La Gallina y Ratorratón te esperan para contarte sus aventuras.
URL:https://lagoteradelazotea.es/evento/la-gallina-churra-en-jerez-cadiz-14/
LOCATION:Claustros de Santo Domingo\, Alameda de Cristina\, Jerez\, Cádiz\, España
CATEGORIES:Agenda
END:VEVENT
END:VCALENDAR