BEGIN:VCALENDAR
VERSION:2.0
PRODID:-//La Gotera De Lazotea - ECPv6.15.20//NONSGML v1.0//EN
CALSCALE:GREGORIAN
METHOD:PUBLISH
X-WR-CALNAME:La Gotera De Lazotea
X-ORIGINAL-URL:https://lagoteradelazotea.es
X-WR-CALDESC:Eventos para La Gotera De Lazotea
REFRESH-INTERVAL;VALUE=DURATION:PT1H
X-Robots-Tag:noindex
X-PUBLISHED-TTL:PT1H
BEGIN:VTIMEZONE
TZID:Europe/Madrid
BEGIN:DAYLIGHT
TZOFFSETFROM:+0100
TZOFFSETTO:+0200
TZNAME:CEST
DTSTART:20230326T010000
END:DAYLIGHT
BEGIN:STANDARD
TZOFFSETFROM:+0200
TZOFFSETTO:+0100
TZNAME:CET
DTSTART:20231029T010000
END:STANDARD
BEGIN:DAYLIGHT
TZOFFSETFROM:+0100
TZOFFSETTO:+0200
TZNAME:CEST
DTSTART:20240331T010000
END:DAYLIGHT
BEGIN:STANDARD
TZOFFSETFROM:+0200
TZOFFSETTO:+0100
TZNAME:CET
DTSTART:20241027T010000
END:STANDARD
BEGIN:DAYLIGHT
TZOFFSETFROM:+0100
TZOFFSETTO:+0200
TZNAME:CEST
DTSTART:20250330T010000
END:DAYLIGHT
BEGIN:STANDARD
TZOFFSETFROM:+0200
TZOFFSETTO:+0100
TZNAME:CET
DTSTART:20251026T010000
END:STANDARD
END:VTIMEZONE
BEGIN:VEVENT
DTSTART;TZID=Europe/Madrid:20241110T120000
DTEND;TZID=Europe/Madrid:20241110T130000
DTSTAMP:20260422T121207
CREATED:20241105T092652Z
LAST-MODIFIED:20241105T092652Z
UID:6651-1731240000-1731243600@lagoteradelazotea.es
SUMMARY:TRAPITO VIAJERO en San Pedro del Pinatar ( Murcia )
DESCRIPTION:Acompáñanos en este MARAVILLOSO VIAJE.
URL:https://lagoteradelazotea.es/evento/trapito-viajero-en-san-pedro-del-pinatar-murcia/
LOCATION:Casa de la Cultura\, C/ Virgen de la Esperanza\,1\, Alcalá del Río\, Sevilla\, Spain
CATEGORIES:Agenda
END:VEVENT
END:VCALENDAR