BEGIN:VCALENDAR
VERSION:2.0
PRODID:-//La Gotera De Lazotea - ECPv6.15.20//NONSGML v1.0//EN
CALSCALE:GREGORIAN
METHOD:PUBLISH
X-ORIGINAL-URL:https://lagoteradelazotea.es
X-WR-CALDESC:Eventos para La Gotera De Lazotea
REFRESH-INTERVAL;VALUE=DURATION:PT1H
X-Robots-Tag:noindex
X-PUBLISHED-TTL:PT1H
BEGIN:VTIMEZONE
TZID:Europe/Madrid
BEGIN:DAYLIGHT
TZOFFSETFROM:+0100
TZOFFSETTO:+0200
TZNAME:CEST
DTSTART:20230326T010000
END:DAYLIGHT
BEGIN:STANDARD
TZOFFSETFROM:+0200
TZOFFSETTO:+0100
TZNAME:CET
DTSTART:20231029T010000
END:STANDARD
BEGIN:DAYLIGHT
TZOFFSETFROM:+0100
TZOFFSETTO:+0200
TZNAME:CEST
DTSTART:20240331T010000
END:DAYLIGHT
BEGIN:STANDARD
TZOFFSETFROM:+0200
TZOFFSETTO:+0100
TZNAME:CET
DTSTART:20241027T010000
END:STANDARD
BEGIN:DAYLIGHT
TZOFFSETFROM:+0100
TZOFFSETTO:+0200
TZNAME:CEST
DTSTART:20250330T010000
END:DAYLIGHT
BEGIN:STANDARD
TZOFFSETFROM:+0200
TZOFFSETTO:+0100
TZNAME:CET
DTSTART:20251026T010000
END:STANDARD
END:VTIMEZONE
BEGIN:VEVENT
DTSTART;TZID=Europe/Madrid:20241119T100000
DTEND;TZID=Europe/Madrid:20241119T230000
DTSTAMP:20260422T121327
CREATED:20241105T101726Z
LAST-MODIFIED:20241105T101726Z
UID:6658-1732010400-1732057200@lagoteradelazotea.es
SUMMARY:TRAPITO VIAJERO en El Viso del Alcor ( Sevilla )
DESCRIPTION:No te pierdas este MARAVILLOSO VIAJE.
URL:https://lagoteradelazotea.es/evento/trapito-viajero-en-el-viso-del-alcor-sevilla-2/
LOCATION:Teatro Antonio Machado\, C/ Carlos Mendez s/n\, El Viso del Alcor\, Sevilla\, España
CATEGORIES:Agenda
END:VEVENT
BEGIN:VEVENT
DTSTART;TZID=Europe/Madrid:20241119T120000
DTEND;TZID=Europe/Madrid:20241119T130000
DTSTAMP:20260422T121327
CREATED:20241105T101955Z
LAST-MODIFIED:20241105T101955Z
UID:6660-1732017600-1732021200@lagoteradelazotea.es
SUMMARY:TRAPITO VIAJERO en El Viso del Alcor ( Sevilla )
DESCRIPTION:No te pierdas este MARAVILLOSO VIAJE.
URL:https://lagoteradelazotea.es/evento/trapito-viajero-en-el-viso-del-alcor-sevilla-3/
LOCATION:Teatro Antonio Machado\, C/ Carlos Mendez s/n\, El Viso del Alcor\, Sevilla\, España
CATEGORIES:Agenda
END:VEVENT
END:VCALENDAR