BEGIN:VCALENDAR
VERSION:2.0
PRODID:-//La Gotera De Lazotea - ECPv6.15.20//NONSGML v1.0//EN
CALSCALE:GREGORIAN
METHOD:PUBLISH
X-WR-CALNAME:La Gotera De Lazotea
X-ORIGINAL-URL:https://lagoteradelazotea.es
X-WR-CALDESC:Eventos para La Gotera De Lazotea
REFRESH-INTERVAL;VALUE=DURATION:PT1H
X-Robots-Tag:noindex
X-PUBLISHED-TTL:PT1H
BEGIN:VTIMEZONE
TZID:Europe/Madrid
BEGIN:DAYLIGHT
TZOFFSETFROM:+0100
TZOFFSETTO:+0200
TZNAME:CEST
DTSTART:20250330T010000
END:DAYLIGHT
BEGIN:STANDARD
TZOFFSETFROM:+0200
TZOFFSETTO:+0100
TZNAME:CET
DTSTART:20251026T010000
END:STANDARD
BEGIN:DAYLIGHT
TZOFFSETFROM:+0100
TZOFFSETTO:+0200
TZNAME:CEST
DTSTART:20260329T010000
END:DAYLIGHT
BEGIN:STANDARD
TZOFFSETFROM:+0200
TZOFFSETTO:+0100
TZNAME:CET
DTSTART:20261025T010000
END:STANDARD
BEGIN:DAYLIGHT
TZOFFSETFROM:+0100
TZOFFSETTO:+0200
TZNAME:CEST
DTSTART:20270328T010000
END:DAYLIGHT
BEGIN:STANDARD
TZOFFSETFROM:+0200
TZOFFSETTO:+0100
TZNAME:CET
DTSTART:20271031T010000
END:STANDARD
END:VTIMEZONE
BEGIN:VEVENT
DTSTART;TZID=Europe/Madrid:20260301T123000
DTEND;TZID=Europe/Madrid:20260301T133000
DTSTAMP:20260423T190853
CREATED:20260220T114533Z
LAST-MODIFIED:20260220T114533Z
UID:7471-1772368200-1772371800@lagoteradelazotea.es
SUMMARY:GARBANCITO EN LA BARRIGA DEL BUEY en Jerez ( Cádiz )
DESCRIPTION:No te pierdas a Garbancito y Chuelita en esta bonita aventura.
URL:https://lagoteradelazotea.es/evento/garbancito-en-la-barriga-del-buey-en-jerez-cadiz-21/
LOCATION:Teatro La Gotera de Lazotea\, C/ Molino de Viento\,7\, Jerez\, Cádiz\, 11403\, Spain
CATEGORIES:Agenda
END:VEVENT
END:VCALENDAR