BEGIN:VCALENDAR
VERSION:2.0
PRODID:-//La Gotera De Lazotea - ECPv6.15.20//NONSGML v1.0//EN
CALSCALE:GREGORIAN
METHOD:PUBLISH
X-WR-CALNAME:La Gotera De Lazotea
X-ORIGINAL-URL:https://lagoteradelazotea.es
X-WR-CALDESC:Eventos para La Gotera De Lazotea
REFRESH-INTERVAL;VALUE=DURATION:PT1H
X-Robots-Tag:noindex
X-PUBLISHED-TTL:PT1H
BEGIN:VTIMEZONE
TZID:Europe/Madrid
BEGIN:DAYLIGHT
TZOFFSETFROM:+0100
TZOFFSETTO:+0200
TZNAME:CEST
DTSTART:20230326T010000
END:DAYLIGHT
BEGIN:STANDARD
TZOFFSETFROM:+0200
TZOFFSETTO:+0100
TZNAME:CET
DTSTART:20231029T010000
END:STANDARD
BEGIN:DAYLIGHT
TZOFFSETFROM:+0100
TZOFFSETTO:+0200
TZNAME:CEST
DTSTART:20240331T010000
END:DAYLIGHT
BEGIN:STANDARD
TZOFFSETFROM:+0200
TZOFFSETTO:+0100
TZNAME:CET
DTSTART:20241027T010000
END:STANDARD
BEGIN:DAYLIGHT
TZOFFSETFROM:+0100
TZOFFSETTO:+0200
TZNAME:CEST
DTSTART:20250330T010000
END:DAYLIGHT
BEGIN:STANDARD
TZOFFSETFROM:+0200
TZOFFSETTO:+0100
TZNAME:CET
DTSTART:20251026T010000
END:STANDARD
END:VTIMEZONE
BEGIN:VEVENT
DTSTART;TZID=Europe/Madrid:20240901T130000
DTEND;TZID=Europe/Madrid:20240901T140000
DTSTAMP:20260421T134629
CREATED:20240805T102721Z
LAST-MODIFIED:20240805T102721Z
UID:6579-1725195600-1725199200@lagoteradelazotea.es
SUMMARY:LA BODA DE LA PULGA Y EL PIOJO en Cazalla de la Sierra ( Sevilla )
DESCRIPTION:No te pierdas la Boda del SIGLO.
URL:https://lagoteradelazotea.es/evento/la-boda-de-la-pulga-y-el-piojo-en-cazalla-de-la-sierra-sevilla/
LOCATION:Parque del Moro\, Parque del Moro\, Cazalla de la Sierra\, Sevilla\, España
CATEGORIES:Agenda
END:VEVENT
BEGIN:VEVENT
DTSTART;TZID=Europe/Madrid:20240905T210000
DTEND;TZID=Europe/Madrid:20240905T220000
DTSTAMP:20260421T134629
CREATED:20240828T092814Z
LAST-MODIFIED:20240828T092814Z
UID:6584-1725570000-1725573600@lagoteradelazotea.es
SUMMARY:GARBANCITO EN LA BARRIGA DEL BUEY en Jerez ( Cádiz )
DESCRIPTION:Garbancito y Chuelita te esperan para que nos acompañes en esta aventura.
URL:https://lagoteradelazotea.es/evento/garbancito-en-la-barriga-del-buey-en-jerez-cadiz-20/
LOCATION:Plaza del Arenal\, Plaza del Arenal\, Jerez de la Frontera\, Cádiz\, España
CATEGORIES:Agenda
END:VEVENT
BEGIN:VEVENT
DTSTART;TZID=Europe/Madrid:20240907T200000
DTEND;TZID=Europe/Madrid:20240907T210000
DTSTAMP:20260421T134629
CREATED:20240828T094602Z
LAST-MODIFIED:20240828T094602Z
UID:6590-1725739200-1725742800@lagoteradelazotea.es
SUMMARY:LA GALLINA CHURRA en Jerez ( Cádiz )
DESCRIPTION:La Gallina Churra te contará su aventura para poder vencer a la gran Culebra.
URL:https://lagoteradelazotea.es/evento/la-gallina-churra-en-jerez-cadiz-13/
LOCATION:El Jardín de Berta\, C/ Caballeros\,36\, Jerez\, Cádiz\, España
CATEGORIES:Agenda
END:VEVENT
BEGIN:VEVENT
DTSTART;TZID=Europe/Madrid:20240912T200000
DTEND;TZID=Europe/Madrid:20240912T210000
DTSTAMP:20260421T134629
CREATED:20240828T093431Z
LAST-MODIFIED:20240909T111232Z
UID:6586-1726171200-1726174800@lagoteradelazotea.es
SUMMARY:EL GATO CON BOTAS en Jerez  ( Cádiz )
DESCRIPTION:Nuestro Gato sabe cantar y bailar.
URL:https://lagoteradelazotea.es/evento/el-gato-con-botas-en-jerez-cadiz-12/
LOCATION:Plaza del Arenal\, Plaza del Arenal\, Jerez de la Frontera\, Cádiz\, España
CATEGORIES:Agenda
END:VEVENT
BEGIN:VEVENT
DTSTART;TZID=Europe/Madrid:20240914T200000
DTEND;TZID=Europe/Madrid:20240914T210000
DTSTAMP:20260421T134629
CREATED:20240828T093926Z
LAST-MODIFIED:20240828T093926Z
UID:6588-1726344000-1726347600@lagoteradelazotea.es
SUMMARY:LA MATA DE ALBAHACA en Jerez ( Cádiz )
DESCRIPTION:Mariquilla y el Principe resolverán todos los problemas y terminarán felices.
URL:https://lagoteradelazotea.es/evento/la-mata-de-albahaca-en-jerez-cadiz-5/
LOCATION:Plaza del Arenal\, Plaza del Arenal\, Jerez de la Frontera\, Cádiz\, España
CATEGORIES:Agenda
END:VEVENT
BEGIN:VEVENT
DTSTART;TZID=Europe/Madrid:20240921T200000
DTEND;TZID=Europe/Madrid:20240921T210000
DTSTAMP:20260421T134629
CREATED:20240828T095016Z
LAST-MODIFIED:20240828T095016Z
UID:6592-1726948800-1726952400@lagoteradelazotea.es
SUMMARY:JUANACA EL DE LA VACA en Jerez ( Cádiz )
DESCRIPTION:Juanaca y su Vaca te esperan te esperan para contarte lo que…………..
URL:https://lagoteradelazotea.es/evento/juanaca-el-de-la-vaca-en-jerez-cadiz-9/
LOCATION:El Jardín de Berta\, C/ Caballeros\,36\, Jerez\, Cádiz\, España
CATEGORIES:Agenda
END:VEVENT
BEGIN:VEVENT
DTSTART;TZID=Europe/Madrid:20240923T200000
DTEND;TZID=Europe/Madrid:20240923T210000
DTSTAMP:20260421T134629
CREATED:20240828T095308Z
LAST-MODIFIED:20240828T095308Z
UID:6594-1727121600-1727125200@lagoteradelazotea.es
SUMMARY:LA BODA DE LA PULGA Y EL PIOJO en Jerez ( Cádiz )
DESCRIPTION:No te pierdas la boda del SIGLO.
URL:https://lagoteradelazotea.es/evento/la-boda-de-la-pulga-y-el-piojo-en-jerez-cadiz-9/
LOCATION:El Jardín de Berta\, C/ Caballeros\,36\, Jerez\, Cádiz\, España
CATEGORIES:Agenda
END:VEVENT
BEGIN:VEVENT
DTSTART;TZID=Europe/Madrid:20240929T110000
DTEND;TZID=Europe/Madrid:20240929T120000
DTSTAMP:20260421T134629
CREATED:20240828T100356Z
LAST-MODIFIED:20240828T100356Z
UID:6596-1727607600-1727611200@lagoteradelazotea.es
SUMMARY:A CUENTAGOTAS en Málaga
DESCRIPTION:Que no te lo cuenten\, ven a vernos.
URL:https://lagoteradelazotea.es/evento/a-cuentagotas-en-malaga/
LOCATION:Teatro Echegaray\, C/ Echegaray\,6\, Málaga\, España
CATEGORIES:Agenda
END:VEVENT
BEGIN:VEVENT
DTSTART;TZID=Europe/Madrid:20240929T130000
DTEND;TZID=Europe/Madrid:20240929T140000
DTSTAMP:20260421T134629
CREATED:20240828T100546Z
LAST-MODIFIED:20240828T100546Z
UID:6598-1727614800-1727618400@lagoteradelazotea.es
SUMMARY:A CUENTAGOTAS en Málaga
DESCRIPTION:Que no te lo cuenten\, ven a vernos.
URL:https://lagoteradelazotea.es/evento/a-cuentagotas-en-malaga-2/
LOCATION:Teatro Echegaray\, C/ Echegaray\,6\, Málaga\, España
CATEGORIES:Agenda
END:VEVENT
END:VCALENDAR