BEGIN:VCALENDAR
VERSION:2.0
PRODID:-//La Gotera De Lazotea - ECPv6.15.20//NONSGML v1.0//EN
CALSCALE:GREGORIAN
METHOD:PUBLISH
X-WR-CALNAME:La Gotera De Lazotea
X-ORIGINAL-URL:https://lagoteradelazotea.es
X-WR-CALDESC:Eventos para La Gotera De Lazotea
REFRESH-INTERVAL;VALUE=DURATION:PT1H
X-Robots-Tag:noindex
X-PUBLISHED-TTL:PT1H
BEGIN:VTIMEZONE
TZID:Europe/Madrid
BEGIN:DAYLIGHT
TZOFFSETFROM:+0100
TZOFFSETTO:+0200
TZNAME:CEST
DTSTART:20230326T010000
END:DAYLIGHT
BEGIN:STANDARD
TZOFFSETFROM:+0200
TZOFFSETTO:+0100
TZNAME:CET
DTSTART:20231029T010000
END:STANDARD
BEGIN:DAYLIGHT
TZOFFSETFROM:+0100
TZOFFSETTO:+0200
TZNAME:CEST
DTSTART:20240331T010000
END:DAYLIGHT
BEGIN:STANDARD
TZOFFSETFROM:+0200
TZOFFSETTO:+0100
TZNAME:CET
DTSTART:20241027T010000
END:STANDARD
BEGIN:DAYLIGHT
TZOFFSETFROM:+0100
TZOFFSETTO:+0200
TZNAME:CEST
DTSTART:20250330T010000
END:DAYLIGHT
BEGIN:STANDARD
TZOFFSETFROM:+0200
TZOFFSETTO:+0100
TZNAME:CET
DTSTART:20251026T010000
END:STANDARD
END:VTIMEZONE
BEGIN:VEVENT
DTSTART;TZID=Europe/Madrid:20241201T123000
DTEND;TZID=Europe/Madrid:20241201T133000
DTSTAMP:20260422T121235
CREATED:20241115T121926Z
LAST-MODIFIED:20241115T121926Z
UID:6684-1733056200-1733059800@lagoteradelazotea.es
SUMMARY:LA GALLINA CHURRA en la Sala Rusafa ( Valencia )
DESCRIPTION:La Gallina y Ratorratón te esperan para contarte sus aventuras.
URL:https://lagoteradelazotea.es/evento/la-gallina-churra-en-la-sala-rusafa-valencia-2/
LOCATION:Sala Rusafa\, Calle Denia\,55\, Valencia\, Valencia
CATEGORIES:Agenda
END:VEVENT
BEGIN:VEVENT
DTSTART;TZID=Europe/Madrid:20241207T190000
DTEND;TZID=Europe/Madrid:20241207T200000
DTSTAMP:20260422T121235
CREATED:20241122T120826Z
LAST-MODIFIED:20241122T120826Z
UID:6687-1733598000-1733601600@lagoteradelazotea.es
SUMMARY:TRAPITO VIAJERO en El Cuervo de Sevilla ( Sevilla )
DESCRIPTION:Acompáñanos en este Maravilloso VIAJE.
URL:https://lagoteradelazotea.es/evento/trapito-viajero-en-el-cuervo-de-sevilla-sevilla/
LOCATION:Teatro del Molino\, Avda. Jerez\, 5\, El Cuervo de Sevilla\, Sevilla\, España
CATEGORIES:Agenda
END:VEVENT
BEGIN:VEVENT
DTSTART;TZID=Europe/Madrid:20241212T100000
DTEND;TZID=Europe/Madrid:20241212T230000
DTSTAMP:20260422T121235
CREATED:20241122T121129Z
LAST-MODIFIED:20241122T121129Z
UID:6690-1733997600-1734044400@lagoteradelazotea.es
SUMMARY:LA BODA DE LA PULGA Y EL PIOJO en El Colorado ( Conil )
DESCRIPTION:No te pierdas la Boda del SIGLO.
URL:https://lagoteradelazotea.es/evento/la-boda-de-la-pulga-y-el-piojo-en-el-colorado-conil/
LOCATION:CEIP El Colorado\, Pago del Colorado s/n\, Conil\, Cádiz\, España
CATEGORIES:Agenda
END:VEVENT
BEGIN:VEVENT
DTSTART;TZID=Europe/Madrid:20241212T120000
DTEND;TZID=Europe/Madrid:20241212T130000
DTSTAMP:20260422T121235
CREATED:20241122T121317Z
LAST-MODIFIED:20241122T121317Z
UID:6693-1734004800-1734008400@lagoteradelazotea.es
SUMMARY:LA BODA DE LA PULGA Y EL PIOJO en El Colorado ( Conil )
DESCRIPTION:No te pierdas la Boda del SIGLO.
URL:https://lagoteradelazotea.es/evento/la-boda-de-la-pulga-y-el-piojo-en-el-colorado-conil-2/
LOCATION:CEIP El Colorado\, Pago del Colorado s/n\, Conil\, Cádiz\, España
CATEGORIES:Agenda
END:VEVENT
BEGIN:VEVENT
DTSTART;TZID=Europe/Madrid:20241214T120000
DTEND;TZID=Europe/Madrid:20241214T130000
DTSTAMP:20260422T121235
CREATED:20241122T121559Z
LAST-MODIFIED:20241122T121559Z
UID:6696-1734177600-1734181200@lagoteradelazotea.es
SUMMARY:TRAPITO VIAJERO en Conil ( Cádiz )
DESCRIPTION:No te pierdas este Maravilloso VIAJE.
URL:https://lagoteradelazotea.es/evento/trapito-viajero-en-conil-cadiz-2/
LOCATION:Casa de la Cultura\, C/ Virgen de la Esperanza\,1\, Alcalá del Río\, Sevilla\, Spain
CATEGORIES:Agenda
END:VEVENT
BEGIN:VEVENT
DTSTART;TZID=Europe/Madrid:20241215T180000
DTEND;TZID=Europe/Madrid:20241215T190000
DTSTAMP:20260422T121235
CREATED:20241203T111049Z
LAST-MODIFIED:20241203T111049Z
UID:6699-1734285600-1734289200@lagoteradelazotea.es
SUMMARY:TRAPITO VIAJERO en Villanueva del Ariscal ( Sevilla )
DESCRIPTION:Acompáñanos en este » Maravilloso Viaje «.
URL:https://lagoteradelazotea.es/evento/trapito-viajero-en-villanueva-del-ariscal-sevilla/
LOCATION:Palacio de la Musica\, Av. de los Trabajadores\,39\, Villanueva del Ariscal\, Sevilla\, España
CATEGORIES:Agenda
END:VEVENT
BEGIN:VEVENT
DTSTART;TZID=Europe/Madrid:20241226T120000
DTEND;TZID=Europe/Madrid:20241226T130000
DTSTAMP:20260422T121235
CREATED:20241217T125125Z
LAST-MODIFIED:20241217T125125Z
UID:6712-1735214400-1735218000@lagoteradelazotea.es
SUMMARY:LA GALLINA CHURRA en Tomares ( Sevilla )
DESCRIPTION:La Gallina y Ratorratón te contarán sus aventuras.
URL:https://lagoteradelazotea.es/evento/la-gallina-churra-en-tomares-sevilla/
LOCATION:Plaza del Auditorio\, Plaza del Auditorio\, Tomares\, Sevilla\, España
CATEGORIES:Agenda
END:VEVENT
BEGIN:VEVENT
DTSTART;TZID=Europe/Madrid:20241227T120000
DTEND;TZID=Europe/Madrid:20241227T130000
DTSTAMP:20260422T121235
CREATED:20241203T112032Z
LAST-MODIFIED:20241203T112032Z
UID:6702-1735300800-1735304400@lagoteradelazotea.es
SUMMARY:CUENTOS EN BICICLETA en Biblioteca Infanta Elena ( Sevilla )
DESCRIPTION:Te contaremos y cantaremos.
URL:https://lagoteradelazotea.es/evento/cuentos-en-bicicleta-en-biblioteca-infanta-elena-sevilla/
LOCATION:Biblioteca publica Infanta Elena\, Av. María Luisa\,8\, Sevilla\, Sevilla\, España
CATEGORIES:Agenda
END:VEVENT
BEGIN:VEVENT
DTSTART;TZID=Europe/Madrid:20241229T123000
DTEND;TZID=Europe/Madrid:20241229T133000
DTSTAMP:20260422T121235
CREATED:20241203T112552Z
LAST-MODIFIED:20241203T112552Z
UID:6705-1735475400-1735479000@lagoteradelazotea.es
SUMMARY:TRAPITO VIAJERO en Madrid
DESCRIPTION:Acompáñanos en este » Maravilloso Viaje «.
URL:https://lagoteradelazotea.es/evento/trapito-viajero-en-madrid-3/
LOCATION:Teatro del Retiro\, Parque del Retiro\, Madrid\, Madrid\, España
CATEGORIES:Agenda
END:VEVENT
BEGIN:VEVENT
DTSTART;TZID=Europe/Madrid:20241230T183000
DTEND;TZID=Europe/Madrid:20241230T193000
DTSTAMP:20260422T121235
CREATED:20241203T113855Z
LAST-MODIFIED:20241203T113855Z
UID:6708-1735583400-1735587000@lagoteradelazotea.es
SUMMARY:TRAPITO VIAJERO en Úbeda ( Jaén )
DESCRIPTION:Acompáñanos en este » Maravilloso Viaje «.
URL:https://lagoteradelazotea.es/evento/trapito-viajero-en-ubeda-jaen/
LOCATION:Auditorio del hospital de Santiago\, C/ Obispo Cobos\, Úbeda\, Jaén\, España
CATEGORIES:Agenda
END:VEVENT
END:VCALENDAR