BEGIN:VCALENDAR
VERSION:2.0
PRODID:-//La Gotera De Lazotea - ECPv6.15.20//NONSGML v1.0//EN
CALSCALE:GREGORIAN
METHOD:PUBLISH
X-WR-CALNAME:La Gotera De Lazotea
X-ORIGINAL-URL:https://lagoteradelazotea.es
X-WR-CALDESC:Eventos para La Gotera De Lazotea
REFRESH-INTERVAL;VALUE=DURATION:PT1H
X-Robots-Tag:noindex
X-PUBLISHED-TTL:PT1H
BEGIN:VTIMEZONE
TZID:Europe/Madrid
BEGIN:DAYLIGHT
TZOFFSETFROM:+0100
TZOFFSETTO:+0200
TZNAME:CEST
DTSTART:20250330T010000
END:DAYLIGHT
BEGIN:STANDARD
TZOFFSETFROM:+0200
TZOFFSETTO:+0100
TZNAME:CET
DTSTART:20251026T010000
END:STANDARD
BEGIN:DAYLIGHT
TZOFFSETFROM:+0100
TZOFFSETTO:+0200
TZNAME:CEST
DTSTART:20260329T010000
END:DAYLIGHT
BEGIN:STANDARD
TZOFFSETFROM:+0200
TZOFFSETTO:+0100
TZNAME:CET
DTSTART:20261025T010000
END:STANDARD
BEGIN:DAYLIGHT
TZOFFSETFROM:+0100
TZOFFSETTO:+0200
TZNAME:CEST
DTSTART:20270328T010000
END:DAYLIGHT
BEGIN:STANDARD
TZOFFSETFROM:+0200
TZOFFSETTO:+0100
TZNAME:CET
DTSTART:20271031T010000
END:STANDARD
END:VTIMEZONE
BEGIN:VEVENT
DTSTART;TZID=Europe/Madrid:20260201T110000
DTEND;TZID=Europe/Madrid:20260201T120000
DTSTAMP:20260421T145521
CREATED:20260112T122128Z
LAST-MODIFIED:20260112T122128Z
UID:7412-1769943600-1769947200@lagoteradelazotea.es
SUMMARY:LA GALLINA CHURRA en Málaga
DESCRIPTION:La Gallina y Ratorratón te esperan para contarte sus aventuras.
URL:https://lagoteradelazotea.es/evento/la-gallina-churra-en-malaga-3/
LOCATION:Teatro Echegaray\, C/ Echegaray\,6\, Málaga\, España
END:VEVENT
BEGIN:VEVENT
DTSTART;TZID=Europe/Madrid:20260201T130000
DTEND;TZID=Europe/Madrid:20260201T140000
DTSTAMP:20260421T145521
CREATED:20260112T122250Z
LAST-MODIFIED:20260112T122250Z
UID:7414-1769950800-1769954400@lagoteradelazotea.es
SUMMARY:LA GALLINA CHURRA en Málaga
DESCRIPTION:La Gallina y Ratorratón te esperan para contarte sus aventuras.
URL:https://lagoteradelazotea.es/evento/la-gallina-churra-en-malaga-4/
LOCATION:Teatro Echegaray\, C/ Echegaray\,6\, Málaga\, España
CATEGORIES:Agenda
END:VEVENT
BEGIN:VEVENT
DTSTART;TZID=Europe/Madrid:20260206T120000
DTEND;TZID=Europe/Madrid:20260206T130000
DTSTAMP:20260421T145521
CREATED:20260120T101528Z
LAST-MODIFIED:20260120T101528Z
UID:7431-1770379200-1770382800@lagoteradelazotea.es
SUMMARY:EL GATO CON BOTAS en Jaén
DESCRIPTION:Nuestro Gato sabe cantar y bailar\, te esperamos.
URL:https://lagoteradelazotea.es/evento/el-gato-con-botas-en-jaen-2/
LOCATION:Sala La Paca\, C/ Manuel Caballero Venzalá\, s/n\, Jaén\, Jaén\, Spain
CATEGORIES:Agenda
END:VEVENT
BEGIN:VEVENT
DTSTART;TZID=Europe/Madrid:20260206T190000
DTEND;TZID=Europe/Madrid:20260206T200000
DTSTAMP:20260421T145521
CREATED:20260120T174457Z
LAST-MODIFIED:20260120T174457Z
UID:7435-1770404400-1770408000@lagoteradelazotea.es
SUMMARY:EL GATO CON BOTAS en Jaén
DESCRIPTION:Nuestro Gato sabe cantar y bailar\, te esperamos.
URL:https://lagoteradelazotea.es/evento/el-gato-con-botas-en-jaen-3/
LOCATION:Sala La Paca\, C/ Manuel Caballero Venzalá\, s/n\, Jaén\, Jaén\, Spain
CATEGORIES:Agenda
END:VEVENT
BEGIN:VEVENT
DTSTART;TZID=Europe/Madrid:20260207T180000
DTEND;TZID=Europe/Madrid:20260207T190000
DTSTAMP:20260421T145521
CREATED:20260120T174646Z
LAST-MODIFIED:20260120T174646Z
UID:7438-1770487200-1770490800@lagoteradelazotea.es
SUMMARY:EL GATO CON BOTAS en Zaragoza
DESCRIPTION:Nuestro Gato sabe cantar y bailar\, te esperamos.
URL:https://lagoteradelazotea.es/evento/el-gato-con-botas-en-zaragoza/
LOCATION:Teatro Arbolé\, Parque del Agua\, Zaragoza\, España
END:VEVENT
BEGIN:VEVENT
DTSTART;TZID=Europe/Madrid:20260208T120000
DTEND;TZID=Europe/Madrid:20260208T130000
DTSTAMP:20260421T145521
CREATED:20260120T174909Z
LAST-MODIFIED:20260120T174909Z
UID:7440-1770552000-1770555600@lagoteradelazotea.es
SUMMARY:EL GATO CON BOTAS en Zaragoza
DESCRIPTION:Nuestro Gato sabe cantar y bailar\, te esperamos.
URL:https://lagoteradelazotea.es/evento/el-gato-con-botas-en-zaragoza-2/
LOCATION:Teatro Arbolé\, Parque del Agua\, Zaragoza\, España
CATEGORIES:Agenda
END:VEVENT
BEGIN:VEVENT
DTSTART;TZID=Europe/Madrid:20260208T170000
DTEND;TZID=Europe/Madrid:20260208T170000
DTSTAMP:20260421T145521
CREATED:20260120T175025Z
LAST-MODIFIED:20260120T175025Z
UID:7442-1770570000-1770570000@lagoteradelazotea.es
SUMMARY:EL GATO CON BOTAS en Zaragoza
DESCRIPTION:Nuestro Gato sabe cantar y bailar\, te esperamos.
URL:https://lagoteradelazotea.es/evento/el-gato-con-botas-en-zaragoza-3/
LOCATION:Teatro Arbolé\, Parque del Agua\, Zaragoza\, España
END:VEVENT
BEGIN:VEVENT
DTSTART;TZID=Europe/Madrid:20260212T180000
DTEND;TZID=Europe/Madrid:20260212T190000
DTSTAMP:20260421T145521
CREATED:20260120T175415Z
LAST-MODIFIED:20260120T175415Z
UID:7445-1770919200-1770922800@lagoteradelazotea.es
SUMMARY:LA MATA DE ALBAHACA en Roquetas de Mar ( Almería )
DESCRIPTION:Mariquilla y el Principe te contarán su aventura\, no te la pierdas.
URL:https://lagoteradelazotea.es/evento/la-mata-de-albahaca-en-roquetas-de-mar-almeria/
LOCATION:Auditorio de Roquetas de Mar\, Av.Reino de España s/n\, Roquetas\, Almería\, Spain
END:VEVENT
BEGIN:VEVENT
DTSTART;TZID=Europe/Madrid:20260215T123000
DTEND;TZID=Europe/Madrid:20260215T133000
DTSTAMP:20260421T145521
CREATED:20260202T122529Z
LAST-MODIFIED:20260202T122529Z
UID:7452-1771158600-1771162200@lagoteradelazotea.es
SUMMARY:JUANACA EL DE LA VACA en Jerez ( Cádiz )
DESCRIPTION:Juanaca y su vaca Vacarda\, sabrán librarse de unos ladrones bastante Mamarrachos.
URL:https://lagoteradelazotea.es/evento/juanaca-el-de-la-vaca-en-jerez-cadiz-11/
LOCATION:Teatro La Gotera de Lazotea\, C/ Molino de Viento\,7\, Jerez\, Cádiz\, 11403\, Spain
CATEGORIES:Agenda
END:VEVENT
END:VCALENDAR